BEGIN:VCALENDAR
VERSION:2.0
PRODID:-//pretalx//cfp.pydata.org//pydata-eindhoven-2025//talk//JBPQS9
BEGIN:VEVENT
UID:pretalx-pydata-eindhoven-2025-JBPQS9@cfp.pydata.org
DTSTART:20251209T141000Z
DTEND:20251209T144000Z
DESCRIPTION:In federated data architectures\, balancing team autonomy with 
 accountability is a critical challenge. This presentation introduces our 3
  pillar-based governance model that transforms raw Databricks System Table
 s into actionable scorecards for cost efficiency and best practices.
DTSTAMP:20260425T204147Z
LOCATION:Auditorium
SUMMARY:Federated Data\, Centralized Action: A Governance Model Powered by 
 Lakewatch and Databricks System Tables - Cristiano Cortez Da Rocha\, Frank
  Chidi Mbonu
URL:https://cfp.pydata.org/pydata-eindhoven-2025/talk/JBPQS9/
END:VEVENT
END:VCALENDAR
