BEGIN:VCALENDAR
VERSION:2.0
PRODID:-//pretalx//cfp.pydata.org//pydata-eindhoven-2025//speaker//ZLC78N
BEGIN:VEVENT
UID:pretalx-pydata-eindhoven-2025-FVGMBL@cfp.pydata.org
DTSTART:20251209T144500Z
DTEND:20251209T151500Z
DESCRIPTION:AI teams iterate at the speed of innovation\, while organizatio
 ns require platforms that are reliable\, governed\, and cost‑efficient. 
 This session presents pragmatic patterns and reference architectures that 
 align rapid development with production requirements—so data scientists 
 and developers can move fast without breaking stability.
DTSTAMP:20260425T191306Z
LOCATION:Planck-Bohr
SUMMARY:From Experiment to Enterprise: Architecting AI for Stability and Sc
 ale - Roland Kunz
URL:https://cfp.pydata.org/pydata-eindhoven-2025/talk/FVGMBL/
END:VEVENT
END:VCALENDAR
