BEGIN:VCALENDAR
VERSION:2.0
PRODID:-//pretalx//cfp.pydata.org//pydata-eindhoven-2025//speaker//WZTMTC
BEGIN:VEVENT
UID:pretalx-pydata-eindhoven-2025-8YNNH9@cfp.pydata.org
DTSTART:20251209T152000Z
DTEND:20251209T155000Z
DESCRIPTION:Modern mission-critical systems operate in environments that ch
 ange by the second. To keep up\, they need more than static maps and siloe
 d data\, they need true situational awareness. This talk explores how we a
 re building a Responsible Human-Agent Ecosystem that combines high-resolut
 ion 3D geospatial data\, real-time sensor fusion\, and AI-driven agents to
  help mission-critical platforms understand the world the way humans do- b
 ut faster and at scale.
DTSTAMP:20260425T191221Z
LOCATION:Auditorium
SUMMARY:Responsible Human-Agent Ecosystem: Making Mission Critical Systems 
 Situationally Aware - Ipsit Dash\, Bart-Peter Smit
URL:https://cfp.pydata.org/pydata-eindhoven-2025/talk/8YNNH9/
END:VEVENT
END:VCALENDAR
