BEGIN:VCALENDAR
VERSION:2.0
PRODID:-//pretalx//cfp.pydata.org//pydata-eindhoven-2025//speaker//KTJHNJ
BEGIN:VEVENT
UID:pretalx-pydata-eindhoven-2025-TN83BD@cfp.pydata.org
DTSTART:20251209T144500Z
DTEND:20251209T151500Z
DESCRIPTION:This session delivers a blueprint for building\, deploying\, an
 d managing agents in a secure\, scalable\, and cost-effective manner on Go
 ogle Cloud\, bridging the critical gap between development and operations.
DTSTAMP:20260425T190501Z
LOCATION:Auditorium
SUMMARY:Building\, Deploying and Managing AI Agents at Scale - Sander van D
 onkelaar
URL:https://cfp.pydata.org/pydata-eindhoven-2025/talk/TN83BD/
END:VEVENT
END:VCALENDAR
